BEGIN:VCALENDAR
VERSION:2.0
PRODID:-//https://naskho.org///NONSGML kigkonsult.se iCalcreator 2.10.15//
METHOD:PUBLISH
BEGIN:VEVENT
UID:20260423T125014EDT-77939w5KwB@https://naskho.org/
DTSTAMP:20260423T165014Z
DESCRIPTION: \n \n                                                         
                        \n5th Caribbean Conference Curacao 2026 / CCC2026Th
 e Next Wave in Radiology &amp\; RadiotherapyBridging Knowledge\, Innovatio
 ns &amp\; Care\nIntroduction\nThe Caribbean Association of Radiographers a
 nd Radiation Therapists and Medical Image Practitioners is delighted to ho
 st the 5th Caribbean Conference.\nCARRT.MIP is privileged to partner with 
 NASKHO\, the Netherlands Caribbean Foundation for Clinical Higher Educatio
 n.\nThe beautiful and unique island paradise of Curacao will host the conf
 erence on May 22nd\, 23rd &amp\; 24th 2026\, and we invite you to attend t
 he Caribbean Conference Curacao\, CCC2026.\nWe look forward to interacting
  with you all\, sharing knowledge\, innovations\, and patient care approac
 hes. Our conference promises to be informative and interesting\, with a di
 verse range of topics relevant to the Caribbean region that will assist us
  in improving our skills in managing our patients.\nThe program activities
  will be led by experts and speakers from the different Caribbean countrie
 s in radiation medicine. This event aims to provide participants working i
 n radiation medicine with a venue for maintaining cutting-edge knowledge a
 nd skills in their respective fields.\nThe venue of the Conference will be
  at the Renaissance hotel within walking distance of tourist attractions o
 f Willemstad\, Curacao.\n[toggle open='true' title='Friday\, 22 May 2026']
  \n\n\n\nFrom - To\nSubject\nSpeaker\n\n\n\n\n \nVisit at the Curacao Medi
 cal Center and Meet &amp\; Greet\n \n\n\n19:00 - 19:15\nWelcoming guests a
 t the Renaissance Hotel Lobby\nCommission CCC2026\n\n\n19:30 - 20:30\nVisi
 t at the Radiology and Radiotherapy departments CMC\nCuracao Medical Cente
 r\n\n\n20:30 - 21:30\nMeet &amp\; Greet with some snacks and drinks\nTBA\n
 \n\n\n[/toggle][toggle open='false' title='Saturday\, 23 May 2026 - Sessio
 n 1'] \n\n\n\nFrom - To\nSubject\nSpeaker\n\n\n\n\n08:30 - 09:00\nRegistra
 tion Session 1\n \n\n\n \nMaster of Ceremony: Mrs. Germaine Gibbs\n \n\n\n
 09:00 - 09:20\nCCC2026 Coordinator Welcome introduction speech\nMr. Lucien
  Zuiverloon\n\n\n09:20 - 09:40\n\nCARRT.MIP President\n\nMr. Aleth Bruce\n
 \n\n09:40 - 10:00\nPrime Minister of Curacao\n\nMr. Gilmar Pisas\n\n\n\n10
 :00 - 10:20\nCoffee break \n \n\n\n \nChairman: Mrs. Venice Gill  (Barbado
 s)\n \n\n\n10:20 - 10:45\n# 1 Keynote Speaker ISRRT: Past\, Present and Fu
 ture policies of ISRRT\nMr. Phillipe Gerson\n\n\n10:45 - 11:10\n# 2 RD-7/ 
 The use of Ultrasound in Neonatal Imaging within NICUs in  T &amp\; T - 'A
  comparative analysis in relation to digital radiography.' \nMrs. Ingrid C
 harles- Russell\n\n\n11:10 - 11:35\n# 3 General-1/ Population screening fo
 r breast cancer on Curacao\nMrs. Amanda Temme\n\n\n11:35 - 12:00\n# 4 RT-6
 /“Dose de-escalation in radiotherapy for head and neck cancer \nProf.Dr. J
 . Kaanders \n\n\n12:00 - 13:00\nLunch break\n \n\n\n\n[/toggle][toggle ope
 n='false' title='Saturday\, 23 May 2026 - Session 2'] \n\n\n\nFrom - To\nS
 ubject\nSpeaker\n\n\n\n\n12:45 - 13:00\nRegistration Session 2\n \n\n\n \n
 Chairman: Ms. Xavirah Sichtman - van Hetten  (Surinam)\n \n\n\n13:00 - 13:
 25\n# 5 RT-1/ Monaco transition to Elekta One from the Physics perspective
 \nMrs. Whitney Coulor\n\n\n13:25 - 13:50\n# 6 RD-1/ Mammography &amp\; Bre
 ast Stereotactic Biopsy\nMrs. Clarsine RodriquezMrs. Natasha Ramkisoen    
          \n\n\n13:50 - 14:15\n# 7 RT-7/Histological Distribution of Breast
  cancer and its Association with Ethnicity from 1995 to 2021 in Trinidad &
 amp\; Tobago\nMrs. Dionne Phillip\n\n\n14:15 - 14:40\n# 8 RD-3/Ergonomics:
  Occupational health challenges and the impact of MSDs in Medical Imaging 
 in Guyana\nMrs. Jade TuckerMrs. Jankie Devi\n\n\n14:40 - 15:00\nTea break 
 \n \n\n\n \nChairman: Mr.Timothy Mourillon (Curacao)\n \n\n\n15:00 - 15:25
 \n# 9 General-2/Retire\,re-tire or re-tyre\, The paths of retirees in the 
 medical imaging field\nMrs. Venice Gill\n\n\n15:25 - 15:50\n# 10 RT-3/Brac
 hy\, Flexitron HDR Keloid treatment\nMr. Roderic Alberto\n\n\n15:50 - 16:1
 5\n# 11 RD-4/The effectiveness of the Timing Bolus Technique in CTPA\nMr. 
 Jelani Stephenson\n\n\n16:15 - 16:40\n# 12 RT-8/Chemo radiation: Combining
  radiotherapy with systemic treatments.\nDr. Michael Samson\n\n\n16:40 - 1
 6:45\nClosure\n \n\n\n\n[/toggle][toggle open='false' title='Sunday\, 24 M
 ay 2026 - Session 3'] \n\n\n\nFrom - To\nSubject\nSpeaker\n\n\n\n\n08:30 -
  08:45\nRegistration session 3\n \n\n\n \nChairman: Mrs. Jade Tucker (Guya
 na)\n \n\n\n08:45 - 09:10\n# 13 RT-9/Volume de-escalation in radiotherapy 
 for head and neck cancer\nProf.Dr. J. Kaanders \n\n\n09:10 - 09:35\n\n# 14
  RD-6/Radiation Protection\n\nMrs. Xavirah Sichtman-van Hetten\n\n\n09:35 
 - 10:00\n# 15 RD-9/Further and further from the finger. Use of multiparame
 tric prostate MRI\nMr. Anthony AlleeDr. Manuel Fernandes de Freitas\n\n\n1
 0:00 - 10:20\nCoffee break\n \n\n\n \nChairman:  Mr. Jelanie Stephenson (J
 amaica)\n \n\n\n10:20 - 10:45\n# 16 RD-5/Radiologist/Interventional Radiol
 ogy\nDr. Jose Garbiel Caviedes Gonzalez\n\n\n10:45 - 11:10\n# 17 RT-5/Smar
 ter Treatment\, Better outcomes: Integrating Augmented and Artificial Inte
 lligence in Radiation Oncology\nMr. Ian Weithers\n\n\n11:10 - 11:35\n# 18 
 RT-2/AI in Dosimetry : Why Human Expertise Still Matters\nMr. Jonathan Leo
 cadia\n\n\n11:35 - 12:00\n# 19 RD-2/ The Role of MRI Cardiac\nMrs. Ruqaiya
 h Moentari\n\n\n12:00 - 13:15\nLunch break\n \n\n\n\n[/toggle] [toggle ope
 n='false' title='Sunday\, 24 May 2026 - Session 4'] \n\n\n\nFrom - To\nSub
 ject\nSpeaker\n\n\n\n\n13:00 - 13:15\nRegistration session 4\n \n\n\n \nCh
 airman: Mrs. Dionne Phillip (Trinidad &amp\; Tobago)\n \n\n\n13:15 - 13:40
 \n# 20 RD-8 Lessons from the Roentgen Museum\nMr. David Richards\n\n\n13:4
 0 - 14:05\n# 21 RT-4/Stereotactic radiation \nDr.Osmar Silva Barbosa Neto 
 \n\n\n14:05 - 14:30\n# 22 General-3/The Time-Out protocol\nMr. Aleth Bruce
 \n\n\n14:30 - 14:50\nTea break\n \n\n\n14:50 - 16:00\nCARRT.MIP New Board 
 members presentation 2026-2028\nMr. Aleth BruceMr. Vincent Finisie\n\n\n16
 :00 - 16:15\nCountry Flag Presentation next Caribbean Conference 2028\nMr.
  Lucien ZuiverloonMr. Aleth Bruce\n\n\n16:15 - 16:30\nClosing remarks CCC2
 026\nMr. Lucien ZuiverloonCommittee\n\n\n\n[/toggle] \n \nEarly discount u
 p to April 19th\, 2026$ 200 GP\, MD &amp\; Other$ 125 Nurses\, Paramedics\
 , Radiology and Radiotherapy\nLate Fee as of April 20th\, 2026$ 250 GP\, M
 D &amp\; Other$ 150 Nurses\, Paramedics\, Radiology and Radiotherapy\n\nAc
 creditation pending.\nHaving issues registering? Please click here for ass
 istance.\nAccommodation within walking distance of the Venue:\nVenue confe
 rence \n  Approx. 10-minute walk. Click here to make a reservation\, pleas
 e use Discount Code: NASKHO#537      \nApprox. 10-minute walk  \n \n  Appr
 ox. 12-minute walk         \n Other accommodation (by Car):\nApprox. 7-min
 ute drive\n \n  https://naskho.org/index.php/nl-nl/conferences/event/518-t
 he-next-caribbean-wave-in-radiology-radiotherapy
DTSTART:20260522T080000Z
DTEND:20260524T180000Z
LOCATION:Renaissance Wind Creek Curacao Resort (1 Baden Powellweg\, Curacao
 )
SUMMARY:The Next Caribbean Wave in Radiology & Radiotherapy
URL:https://naskho.org/index.php/nl-nl/conferences/event/518-the-next-carib
 bean-wave-in-radiology-radiotherapy
END:VEVENT
BEGIN:VEVENT
UID:20260423T125014EDT-7803Tj7Avk@https://naskho.org/
DTSTAMP:20260423T165014Z
DESCRIPTION:\n \nA wide-ranging discipline\; from Child to Adulthood\n \nTh
 e Curaçao Rehabilitation Center Foundation (SRC) and the University Medica
 l Center Groningen (UMCG)\, in close collaboration with the Netherlands Ca
 ribbean Foundation for Clinical Higher Education (NASKHO)\, proudly presen
 t the 11th Postgraduate Course in Rehabilitation Medicine.\nConference Foc
 us\nThis year’s program highlights conditions frequently encountered at th
 e Curaçao Rehabilitation Center and in primary care settings throughout Cu
 raçao.\nKey topics include:\n\nStroke rehabilitation\nLower-limb amputatio
 ns due to vascular disorders\nNeurorehabilitation\n\nSpasticity management
 \nTreatment options for drooling and swallowing disorders\n\nPost-Intensiv
 e Care Syndrome (PICS)\nOrthopedic rehabilitation\n\nWeight-bearing strate
 gies after lower-extremity fractures\nManagement of common extremity condi
 tions\n\n\nExpert SpeakersRenowned specialists from Curaçao\, Aruba\, and 
 the Netherlands will share the latest insights\, research\, and best pract
 ices in rehabilitation medicine.\nWho Should AttendThis conference is desi
 gned for:\n\nMedical specialists\nGeneral practitioners\nResidents and int
 erns\nParamedical and peri-medical professionals\nAll healthcare providers
  involved in rehabilitation care\n\n [toggle open='true' title='Friday\, 2
 7 February 2026 - Session 1'] \n\n\n\nFrom - To\nSubject\nSpeaker\n\n\n\n
 \n \nTopic: Pain\nChair: Ayal Zahavi\n\n\n18:15 - 19:00\nRegistration sess
 ion 1\n \n\n\n19:00 - 19:05\nWords of Welcome\nAyal Zahavi\n\n\n19:05 - 19
 :20\nShoulder Pain after Stroke\nMilton Pelgrim\n\n\n19:20 -19:35\nMultidi
 sciplinary Treatment of Back Complaints (other than chronic pain rehabilit
 ation)\nJohn van Loenen\n\n\n19:35 - 19:55\nShoulder pain in Wheelchair Us
 ers\nRienk Dekker\n\n\n19:55 - 20:15\nNew Guidelines Complex Regional Pain
  Syndrome\nJan Geertzen\n\n\n20:15 - 20:30\nDiscussion\n \n\n\n20:30 - 21:
 00\nBreak\n \n\n\n \nTopic: Amputation\nChair: Jan Geertzen\n\n\n21:00 - 2
 1:20\nUndernutrition in Patients with an Amputation\nJan Geertzen\n\n\n21:
 20 - 21:40\nThe Complex Amputation Patient: When (not) to provide a Prosth
 esis\nJuan Martina\n\n\n21:40 - 22:00\nDiscussion\n \n\n\n22:00\nClosure\n
  \n\n\n\n[/toggle]\n[toggle open='false' title='Saturday\, 28 February 202
 6 - Session 2'] \n\n\n\nFrom - To\nSubject\nSpeaker\n\n\n\n\n \nTopic: Neu
 rology\nChair: Juan Martina\n\n\n09:30 - 10:00\nRegistration session 2\n 
 \n\n\n10:00 - 10:20\nCurrent State of the Art in Spasticity Treatment\nPau
 l Pieter Hartman\n\n\n10:20 - 10:40\n\nPitfalls in the Pharmacological Tre
 atment of Spasticity\n\nJuan Martina\n\n\n10:40 - 11:00\nDrooling: Evaluat
 ion and Treatment Options\n\n Ayal Zahavi\n\n\n\n11:00 - 11:15\nDiscussion
 \n \n\n\n11:15 - 11:45\nBreak\n \n\n\n \nTopic: Neurology\nChair: Rienk De
 kker\n\n\n\n11:45 - 12:0512:05 - 12:25\n\nScreening of Swallowing Disorder
 s in Stroke Patients\,  part 1Screening of Swallowing Disorders in Stroke 
 Patients\,  part 2\nAlexandros Valassidis VilaIlse Jap-A-Joe\n\n\n12:25- 1
 2:45\nDiscussion\n \n\n\n12:45 - 14:30\nLunch (lunch on own account)\n \n
 \n\n\n[/toggle]\n[toggle open='false' title='Saturday\, 28 February 2026 -
  Session 3'] \n\n\n\nFrom - To\nSubject\nSpeaker\n\n\n\n\n \nTopic: Amputa
 tion and Prosthetics\nChair: Jan Geertzen\n\n\n14:00- 14:30\nRegistration 
 session 3\n \n\n\n14:30 - 14:50\nPost-operative management after transtibi
 al amputation\nPeter Slijkhuis\n\n\n14:50 - 15:10\nFrom transtibial amputa
 tion to early mobilization\nJohn van Loenen\n\n\n15:10 - 15:30\nExperience
  of Amputation of the Lower Limb in Curaçao\nJuan Martin Rodriguez\n\n\n15
 :30- 15:45\nDiscussion\n \n\n\n15:45- 16:15\nBreak\n \n\n\n \nTopic: Pedia
 tric Rehabilitation\nChair: Juan Martina\n\n\n16:15- 17:15\nMultidisciplin
 ary Treatment of Children with Cerebral Palsy  (GMFCS I and II/Walkers) in
  Curaçao: Evaluation\, Treatment and Experiences of the last 10 years\nAya
 l Zahavi\, Patrick Maathuis\, Marina de Miranda \n\n\n17:15 - 17:30\nDiscu
 ssion\n \n\n\n17:30\nClosure\n \n\n\n\n [/toggle]\n[toggle open='false' ti
 tle='Sunday\, March 1 2026 - Session 4'] \n\n\n\nFrom - To\nSubject\nSpeak
 er\n\n\n\n\n \nTopic: Miscellaneous\n Chair: Rienk Dekker\n\n\n09:30 - 10:
 00 \nRegistration session 4\n \n\n\n10:00 - 10:15\nPost-Intensive Care Syn
 drome\nYvette van Horn\n\n\n10:15 - 10:30\n\nA Fitter Patient Recovers Fas
 ter and Better: How do they do it?\n\nRienk Dekker\n\n\n10:30 - 10:50\nCom
 mon Orthopedic Conditions of the Extremities\nCaroline Hoenders\n\n\n10:50
 - 11:15\nWeight Bearing after Lower Limb Fracture\nYvette van Horn\n\n\n11
 :15 - 11:45\nBreak\n \n\n\n \nTopic: Case discussions\nChair: Ayal Zahavi
 \n\n\n11:45- 12:05\nDiscussion Spasticity (mentimeter) \nJuan Martina\n\n
 \n12:05- 12:25\nDiscussion Amputation (mentimeter)\nJan Geertzen\n\n\n12:2
 5 - 12:45\nDiscussion Prostheses (mentimeter)\nPeter Slijkhuis \n\n\n12:45
 \nClosure\n \n\n\n\n[/toggle] \n \nEarly discount (EXTENDED) up to January
  31st\, 2026$ 300 GP\, MD &amp\; Other$ 150 Nurses &amp\; Paramedics\nLate
  Fee as of February 1st\, 2026$ 350 GP\, MD &amp\; Other$ 175 Nurses &amp\
 ; Paramedics\n\nAccreditation: \n\nVereniging Revalidatieartsen (VRA) 9 po
 ints \nCAN # 26.004\, Full conference: 8 points\n\nFebruary 27- evening se
 ssion: 2 points\nFebruary 28 - morning session: 2 points\nFebruary 28 - af
 ternoon session: 3 points\nMarch 1 - morning session: 1 point\n\n\n\nClick
  here for the Digital Program Booklet.\nAccommodation within walking dista
 nce of the Venue:\nVenue conference \n Approx. 10-minute walk  \n \n  Appr
 ox. 12-minute walk \nApprox. 10-minute walk           \n Other accommodati
 on (by Car):\nApprox. 7-minute drive\n  https://naskho.org/index.php/nl-nl
 /conferences/event/537-rehabilitation-medicine
DTSTART:20260227T181500Z
DTEND:20260301T124500Z
LOCATION:Renaissance Wind Creek Curacao Resort (1 Baden Powellweg\, Curacao
 )
SUMMARY:Rehabilitation Medicine
URL:https://naskho.org/index.php/nl-nl/conferences/event/537-rehabilitation
 -medicine
END:VEVENT
BEGIN:VEVENT
UID:20260423T125014EDT-7810v0DoGl@https://naskho.org/
DTSTAMP:20260423T165014Z
DESCRIPTION:                               \n                              
                                         Voor deelname is inschrijving verp
 licht.\n                                         \n                       
                                  Graag uw lunchticket tonen bij registrati
 e!\n  https://naskho.org/index.php/nl-nl/conferences/event/566-polyfarmaci
 e
DTSTART:20260128T171803Z
DTEND:20260128T191803Z
LOCATION:A1.064 CMC (J. H. J. Hamelbergweg\, Willemstad\, Curaçao)
SUMMARY:Polyfarmacie
URL:https://naskho.org/index.php/nl-nl/conferences/event/566-polyfarmacie
END:VEVENT
BEGIN:VEVENT
UID:20260423T125014EDT-7811VH14fV@https://naskho.org/
DTSTAMP:20260423T165014Z
DESCRIPTION: https://naskho.org/index.php/nl-nl/conferences/event/567-dchd-
 2027-save-the-date
DTSTART:20270114T130730Z
DTEND:20270116T170000Z
LOCATION:To be advised ()
SUMMARY:DCHD 2027 - SAVE THE DATE
URL:https://naskho.org/index.php/nl-nl/conferences/event/567-dchd-2027-save
 -the-date
END:VEVENT
BEGIN:VEVENT
UID:20260423T125014EDT-7812ZIW00t@https://naskho.org/
DTSTAMP:20260423T165014Z
DESCRIPTION:Quality of Care\nInterprofessional collaboration. Guaranteeing 
 optimal healthcare continuum\n  [toggle open='true' title='Friday\, June 1
 9\, 2026 - Session 1'] \n\n\n\nFrom - To\nSubject\nSpeaker\n\n\n\n\n \nTop
 ic: Essentials: organization\, collaboration and communication\n \n\n\n18:
 00 - 18:30\nRegistration session 1\n \n\n\n18:30 - 18:35\nOpening &amp\; W
 elcome\nProf. dr. A.Duits (NASKHO /CMC /UMCG)\n\n\n18:35 - 19:20\nInterpro
 fessional collaboration: communication and leadership: the pressure ulcer 
 experience \nProf. dr. J. Busari (HOH/UM)\n\n\n19:20 - 20:05\nCrew Resourc
 e Management in Healthcare: communicatie\, leiderschap en samenwerking ond
 er hoge druk\nDr. L. Garmers (CMO CMC)\n\n\n20:05 - 20:25\nSetting the Tab
 le\nProf. dr. J. Busari (HOH/UM)Prof. dr. A. Duits (NASKHO /CMC /UMCG)\n\n
 \n20:25\nClosure\n \n\n\n\n[/toggle]\n[toggle open='false' title='Saturday
 \, June 20th 2026 - Session 2'] \n\n\n\nFrom - To\nSubject\nSpeaker\n\n\n
 \n\n \nTopic: Intersectoral\, intra- and interprofessional collaboration: 
 reality and best practices\n \n\n\n09:00 - 09:30\nRegistration session 2\n
  \n\n\n09:30 - 09:55\n\nInterprofessional Education as a Sandbox for Colla
 borative Play—Towards Health Equity\n\nDr. M. Versluis (UMCG)\n\n\n09:55 -
  10:25\n\nIntersectoral collaboration: the oncology perspective I \n\nDr. 
 J.B. Schnog (CMC) \n\n\n10:25 - 10:50\nIntra- and interprofessional collab
 oration: the oncology perspective II\n\nTBA (oncology nurse\, CMC) \n\n\n
 \n10:50 -11:20 \nCoffee break \n \n\n\n11:20 - 12:00 \nIntersectoral colla
 boration: elderly care                                   Intra- and interp
 rofessional collaboration: elderly care II\nDr. E. Johanns (Betesda)      
                     TBA (geriatric nurse\, Betesda) \n\n\n12:00 - 13:00\nL
 unch break\n \n\n\n\n[/toggle]\n[toggle open='false' title='Saturday\, Jun
 e 20th 2026 - Session 3'] \n\n\n\nFrom - To\nSubject\nSpeaker\n\n\n\n\n \n
 Topic: \n \n\n\n13:00 - 13:15\nRegistration session 3\n \n\n\n13:15 - 13:4
 0\nIntersectoral collaboration: diabetes care\nDr. R. Griffith (CMC)\n\n\n
 13:40 - 14:05\nIntra- and interprofessional collaboration: diabetes care\n
 TBA (diabetes nurse\, CMC)\n\n\n14:05 - 14:30\nHow do we train our young p
 rofessionals in inter- and intraprofessional collaboration: the nurses per
 spective \nMrs. Ch. Cruden (CMC)\n\n\n14:30 - 14:45\nTea break\n \n\n\n14:
 45 - 15:30\nThe hospital pharmacist: interprofessional collaboration for s
 afe patient management\nDr. Zohreh Sapifour (CMC)\n\n\n15:30 - 15:55\nInte
 rsectoral collaboration in health and disease: communication and organizat
 ion \nHoracio Oduber Hospital Quality Team\n\n\n15:55 - 16:20\nCommunicati
 on and leadership: the way forward\nProf. dr. J. Busari (HOH/UM)Prof. dr. 
 A. Duits (NASKHO /CMC /UMCG)\n\n\n16:20\nClosure\n \n\n\n\n [/toggle]\n\n 
 \nSpeakerslist:\n\nProf. dr. J.Busari ((HOH/UM) Aruba\nProf. dr. A.J. Duit
 s ((NASKHO/CMC/UMCG) Curacao\nDr. L. Garmers (CMO CMC) Curacao\nDr. M. Ver
 sluis (UMCG) Netherlands\nDr. J.B. Schnog (CMC) Curacao\nDr. E. Johanns (B
 etesda) Curacao\nDr. R. Griffith (CMC) Curacao\nMrs. Ch. Cruden (CMC) Cura
 cao\nDr. Zohreh Sapifour (CMC) Curacao\n\nLocal coordinator:Prof. Dr. Ashl
 ey J. DuitsMedical Immunologist and Medical EducationalistDirector Red Cro
 ss BloodBank/Coordinator medical clerkshipsMSc\, PhD\nInternational coordi
 nator:Prof. Dr. Jamiu O. BusariPediatrician and Medical EducationalistCons
 ultant Pediatrician/Educational researcherMD\, MHPE\, PhD\, FRCPC(Hon)\n 
 \n  https://naskho.org/index.php/nl-nl/conferences/event/568-quality-of-ca
 re-2026
DTSTART:20260619T090000Z
DTEND:20260620T162000Z
LOCATION:COURTYARD by MARRIOTT CURACAO (Pater Euwensweg 11\, Curacao )
SUMMARY:Quality of Care 2026 
URL:https://naskho.org/index.php/nl-nl/conferences/event/568-quality-of-car
 e-2026
END:VEVENT
BEGIN:VEVENT
UID:20260423T125014EDT-7817I8ALPF@https://naskho.org/
DTSTAMP:20260423T165014Z
DESCRIPTION: https://naskho.org/index.php/nl-nl/conferences/event/570-demen
 tie-symposium-save-the-date
DTSTART:20260918T080000Z
DTEND:20260919T170000Z
LOCATION:COURTYARD by MARRIOTT CURACAO (Pater Euwensweg 11\, Curacao )
SUMMARY:Dementie Symposium - SAVE THE DATE
URL:https://naskho.org/index.php/nl-nl/conferences/event/570-dementie-sympo
 sium-save-the-date
END:VEVENT
BEGIN:VEVENT
UID:20260423T125014EDT-7818h0SVV2@https://naskho.org/
DTSTAMP:20260423T165014Z
DESCRIPTION: https://naskho.org/index.php/nl-nl/conferences/event/573-verpl
 eegkundig-congres-save-the-date
DTSTART:20261030T170000Z
DTEND:20261031T170000Z
LOCATION:To be advised ()
SUMMARY:Verpleegkundig Congres - SAVE THE DATE
URL:https://naskho.org/index.php/nl-nl/conferences/event/573-verpleegkundig
 -congres-save-the-date
END:VEVENT
BEGIN:VEVENT
UID:20260423T125014EDT-7819ZuMJHu@https://naskho.org/
DTSTAMP:20260423T165014Z
DESCRIPTION: \n\n  https://naskho.org/index.php/nl-nl/conferences/event/574
 -women-s-health-conference-save-the-date
DTSTART:20270611T080000Z
DTEND:20270613T130000Z
LOCATION:To be advised ()
SUMMARY:Women's Health Conference - SAVE THE DATE
URL:https://naskho.org/index.php/nl-nl/conferences/event/574-women-s-health
 -conference-save-the-date
END:VEVENT
BEGIN:VEVENT
UID:20260423T125014EDT-7820gjtT3L@https://naskho.org/
DTSTAMP:20260423T165014Z
DESCRIPTION: https://naskho.org/index.php/nl-nl/conferences/event/578-hiv-s
 ave-the-date
DTSTART;VALUE=DATE:20261128
LOCATION:To be advised ()
SUMMARY:HIV - SAVE THE DATE
URL:https://naskho.org/index.php/nl-nl/conferences/event/578-hiv-save-the-d
 ate
END:VEVENT
BEGIN:VEVENT
UID:20260423T125014EDT-7821KdEG2k@https://naskho.org/
DTSTAMP:20260423T165014Z
DESCRIPTION:\nIntroduction\nThis unique 5-day Echo Congress\, organized in 
 collaboration with DEUS\, offers a comprehensive program in bedside ultras
 ound.What makes this congress unique is that it combines introductory trai
 ning in Point-of-Care Ultrasound (POCUS) for beginners with more advanced 
 and in-depth training for medical professionals with greater POCUS experie
 nce. Participants will be assigned to workshops according to their prefere
 nces whenever possible.To accommodate our international and multilingual p
 articipants\, the congress will be conducted in both Dutch and English.\nL
 earning Goals\n\nTo become familiar with the different topics within Point
 -of-Care Ultrasound (POCUS): FAST\, kidneys\, lungs\, cardiac ultrasound (
 basic and intermediate)\, aorta &amp\; IVC\, gynecology\, musculoskeletal 
 ultrasound\, IV access and gastroenterology subjects.\nTo improve both kno
 wledge and practical skills through workshops and presentations. \nTo deep
 en knowledge and expertise in echocardiography (expert level)\n\nEarly Bir
 d ticket (available from March 15 - April 24\, 2026) $ 1\,150 / AWG 2\,050
 Regular Price $ 1\,350 / 2\,450\n20 CME Points\nClick here for more inform
 ation.\n\n \n  https://naskho.org/index.php/nl-nl/conferences/event/583-ca
 ribbean-echo-congress-2026
DTSTART:20261005T080000Z
DTEND:20261005T130000Z
LOCATION:HOH Academy (Caya Dr. J.E.M. Arends 2\, Aruba)
SUMMARY:Caribbean Echo Congress 2026
URL:https://naskho.org/index.php/nl-nl/conferences/event/583-caribbean-echo
 -congress-2026
END:VEVENT
END:VCALENDAR
