BEGIN:VCALENDAR
VERSION:2.0
PRODID:-//https://naskho.org///NONSGML kigkonsult.se iCalcreator 2.10.15//
METHOD:PUBLISH
BEGIN:VEVENT
UID:20260421T050833EDT-7915VMcXGh@https://naskho.org/
DTSTAMP:20260421T090833Z
DESCRIPTION: https://naskho.org/index.php/nl-nl/conferences/overview-of-con
 ferences/event/404-retinopathy-of-prematurity-screening-and-treatment-at-t
 he-nicu
DTSTART:20230816T120000Z
DTEND:20230816T130000Z
LOCATION:Auditorium\, Curacao Medical Center ()
SUMMARY:Retinopathy of Prematurity: Screening and treatment at the NICU
URL:https://naskho.org/index.php/nl-nl/conferences/overview-of-conferences/
 event/404-retinopathy-of-prematurity-screening-and-treatment-at-the-nicu
END:VEVENT
END:VCALENDAR
