BEGIN:VCALENDAR
VERSION:2.0
PRODID:-//https://naskho.org///NONSGML kigkonsult.se iCalcreator 2.10.15//
METHOD:PUBLISH
BEGIN:VEVENT
UID:20260424T132828EDT-5532gmMJLg@https://naskho.org/
DTSTAMP:20260424T172828Z
DESCRIPTION: \n    \n  https://naskho.org/index.php/nl-nl/conferences/my-co
 nferences/event/539-organ-donation-machine-perfusion-and-liver-transplanta
 tion
DTSTART:20250924T120000Z
DTEND:20250924T130000Z
LOCATION:Auditorium\, Curacao Medical Center ()
SUMMARY:Organ donation\, machine perfusion and liver transplantation
URL:https://naskho.org/index.php/nl-nl/conferences/my-conferences/event/539
 -organ-donation-machine-perfusion-and-liver-transplantation
END:VEVENT
END:VCALENDAR
