BEGIN:VCALENDAR
VERSION:2.0
PRODID:-//https://naskho.org///NONSGML kigkonsult.se iCalcreator 2.10.15//
METHOD:PUBLISH
BEGIN:VEVENT
UID:20260425T112712EDT-3832siiZiV@https://naskho.org/
DTSTAMP:20260425T152712Z
DESCRIPTION: https://naskho.org/index.php/nl-nl/conferences/my-conferences/
 event/513-extra-klinische-conferentie-consequenties-van-zorgvuldige-nierfu
 nctie-en-albuminurie-bepaling
DTSTART:20250221T120000Z
DTEND:20250221T130000Z
LOCATION:Auditorium\, Curacao Medical Center ()
SUMMARY:EXTRA KLINISCHE CONFERENTIE: Consequenties van zorgvuldige nierfunc
 tie en albuminurie bepaling
URL:https://naskho.org/index.php/nl-nl/conferences/my-conferences/event/513
 -extra-klinische-conferentie-consequenties-van-zorgvuldige-nierfunctie-en-
 albuminurie-bepaling
END:VEVENT
END:VCALENDAR
