BEGIN:VCALENDAR
VERSION:2.0
PRODID:-//https://naskho.org///NONSGML kigkonsult.se iCalcreator 2.10.15//
METHOD:PUBLISH
BEGIN:VEVENT
UID:20260425T144646EDT-6499h7RV0L@https://naskho.org/
DTSTAMP:20260425T184646Z
DESCRIPTION: \n  https://naskho.org/index.php/nl-nl/conferences/my-conferen
 ces/event/375-hoezo-echo-we-hebben-toch-ct-dr-j-puylaert
DTSTART:20230301T120000Z
DTEND:20230302T130000Z
LOCATION:Auditorium\, Curacao Medical Center ()
SUMMARY:Hoezo echo? We hebben toch CT! - Dr. J. Puylaert
URL:https://naskho.org/index.php/nl-nl/conferences/my-conferences/event/375
 -hoezo-echo-we-hebben-toch-ct-dr-j-puylaert
END:VEVENT
END:VCALENDAR
