BEGIN:VCALENDAR
VERSION:2.0
PRODID:-//https://naskho.org///NONSGML kigkonsult.se iCalcreator 2.10.15//
METHOD:PUBLISH
BEGIN:VEVENT
UID:20260420T123628EDT-2597ZBCVSo@https://naskho.org/
DTSTAMP:20260420T163628Z
DESCRIPTION: https://naskho.org/index.php/nl-nl/conferences/my-conferences/
 event/184-urine-sedimentsafwijkingen-proteinurie-an-hematurie-handleiding-
 voor-de-huis-arts-dr-nouaf-ajubi-internist-nefroloog
DTSTART:20191023T120000Z
DTEND:20191023T130000Z
LOCATION: ()
SUMMARY:Urine sedimentsafwijkingen: proteinurie an hematurie. Handleiding v
 oor de (huis)arts. - Dr. Nouaf Ajubi (Internist-Nefroloog)
URL:https://naskho.org/index.php/nl-nl/conferences/my-conferences/event/184
 -urine-sedimentsafwijkingen-proteinurie-an-hematurie-handleiding-voor-de-h
 uis-arts-dr-nouaf-ajubi-internist-nefroloog
END:VEVENT
END:VCALENDAR
