BEGIN:VCALENDAR
VERSION:2.0
PRODID:-//https://naskho.org///NONSGML kigkonsult.se iCalcreator 2.10.15//
METHOD:PUBLISH
BEGIN:VEVENT
UID:20260420T060319EDT-7548XNVnxE@https://naskho.org/
DTSTAMP:20260420T100319Z
DESCRIPTION: https://naskho.org/index.php/nl-nl/conferences/calendar/event/
 578-hiv-save-the-date
DTSTART;VALUE=DATE:20261128
LOCATION:To be advised ()
SUMMARY:HIV - SAVE THE DATE
URL:https://naskho.org/index.php/nl-nl/conferences/calendar/event/578-hiv-s
 ave-the-date
END:VEVENT
END:VCALENDAR
