BEGIN:VCALENDAR
VERSION:2.0
PRODID:-//https://naskho.org///NONSGML kigkonsult.se iCalcreator 2.10.15//
METHOD:PUBLISH
BEGIN:VEVENT
UID:20260425T142436EDT-9698CAgKBM@https://naskho.org/
DTSTAMP:20260425T182436Z
DESCRIPTION: \nRegistration is no longer required for the Clinical Conferen
 ces!Registratie is niet langer vereist voor de Klinische Conferenties!¡Ya 
 no se requiere inscripción para las Conferencias Clínicas!\n  https://nask
 ho.org/index.php/nl-nl/clinical-conferences/program/event/580-posttraumati
 sche-deformiteiten-en-3d-geplande-correcties
DTSTART:20260415T120000Z
DTEND:20260415T130000Z
LOCATION:Auditorium\, Curacao Medical Center ()
SUMMARY:Posttraumatische deformiteiten en 3D-geplande correcties
URL:https://naskho.org/index.php/nl-nl/clinical-conferences/program/event/5
 80-posttraumatische-deformiteiten-en-3d-geplande-correcties
END:VEVENT
END:VCALENDAR
