BEGIN:VCALENDAR
VERSION:2.0
PRODID:-//https://naskho.org///NONSGML kigkonsult.se iCalcreator 2.10.15//
METHOD:PUBLISH
BEGIN:VEVENT
UID:20260425T155329EDT-6880TUBsVC@https://naskho.org/
DTSTAMP:20260425T195329Z
DESCRIPTION: \nRegistration is no longer required for the Clinical Conferen
 ces! Registratie is niet langer vereist voor de Klinische Conferenties!¡Ya
  no se requiere inscripción para las Conferencias Clínicas!\n\n  https://n
 askho.org/index.php/nl-nl/clinical-conferences/program/event/558-policy-in
 -mental-health-in-general-politica-de-salud-mental
DTSTART:20251210T120000Z
DTEND:20251210T130000Z
LOCATION:Auditorium\, Curacao Medical Center ()
SUMMARY:Policy in mental health in general / Política de salud mental
URL:https://naskho.org/index.php/nl-nl/clinical-conferences/program/event/5
 58-policy-in-mental-health-in-general-politica-de-salud-mental
END:VEVENT
END:VCALENDAR
