BEGIN:VCALENDAR
VERSION:2.0
PRODID:-//https://naskho.org///NONSGML kigkonsult.se iCalcreator 2.10.15//
METHOD:PUBLISH
BEGIN:VEVENT
UID:20260424T120855EDT-1602L5OVrB@https://naskho.org/
DTSTAMP:20260424T160855Z
DESCRIPTION: \n \n                                                         
                        \n5th Caribbean Conference Curacao 2026 / CCC2026Th
 e Next Wave in Radiology &amp\; RadiotherapyBridging Knowledge\, Innovatio
 ns &amp\; Care\nIntroduction\nThe Caribbean Association of Radiographers a
 nd Radiation Therapists and Medical Image Practitioners is delighted to ho
 st the 5th Caribbean Conference.\nCARRT.MIP is privileged to partner with 
 NASKHO\, the Netherlands Caribbean Foundation for Clinical Higher Educatio
 n.\nThe beautiful and unique island paradise of Curacao will host the conf
 erence on May 22nd\, 23rd &amp\; 24th 2026\, and we invite you to attend t
 he Caribbean Conference Curacao\, CCC2026.\nWe look forward to interacting
  with you all\, sharing knowledge\, innovations\, and patient care approac
 hes. Our conference promises to be informative and interesting\, with a di
 verse range of topics relevant to the Caribbean region that will assist us
  in improving our skills in managing our patients.\nThe program activities
  will be led by experts and speakers from the different Caribbean countrie
 s in radiation medicine. This event aims to provide participants working i
 n radiation medicine with a venue for maintaining cutting-edge knowledge a
 nd skills in their respective fields.\nThe venue of the Conference will be
  at the Renaissance hotel within walking distance of tourist attractions o
 f Willemstad\, Curacao.\n[toggle open='true' title='Friday\, 22 May 2026']
  \n\n\n\nFrom - To\nSubject\nSpeaker\n\n\n\n\n \nVisit at the Curacao Medi
 cal Center and Meet &amp\; Greet\n \n\n\n19:00 - 19:15\nWelcoming guests a
 t the Renaissance Hotel Lobby\nCommission CCC2026\n\n\n19:30 - 20:30\nVisi
 t at the Radiology and Radiotherapy departments CMC\nCuracao Medical Cente
 r\n\n\n20:30 - 21:30\nMeet &amp\; Greet with some snacks and drinks\nResta
 urant Curacao Medical Center\n\n\n\n[/toggle][toggle open='false' title='S
 aturday\, 23 May 2026 - Session 1'] \n\n\n\nFrom - To\nSubject\nSpeaker\n
 \n\n\n\n08:30 - 09:00\nRegistration Session 1\n \n\n\n \nMaster of Ceremon
 y: Mrs. Germaine Gibbs\n \n\n\n09:00 - 09:20\nCCC2026 Coordinator Welcome 
 introduction speech\nMr. Lucien Zuiverloon\n\n\n09:20 - 09:40\n\nCARRT.MIP
  President\n\nMr. Aleth Bruce\n\n\n09:40 - 10:00\nPrime Minister of Curaca
 o\n\nMr. Gilmar Pisas\n\n\n\n10:00 - 10:20\nCoffee break \n \n\n\n \nChair
 man: Mrs. Venice Gill  (Barbados)\n \n\n\n10:20 - 10:45\n# 1 Keynote Speak
 er ISRRT: Past\, Present and Future policies of ISRRT\nMr. Phillipe Gerson
 \n\n\n10:45 - 11:10\n# 2 RD-7/ The use of Ultrasound in Neonatal Imaging w
 ithin NICUs in  T &amp\; T - 'A comparative analysis in relation to digita
 l radiography.' \nMrs. Ingrid Charles- Russell\n\n\n11:10 - 11:35\n# 3 Gen
 eral-1/ Population screening for breast cancer on Curacao\nMrs. Amanda Tem
 me\n\n\n11:35 - 12:00\n# 4 RT-6/“Dose de-escalation in radiotherapy for he
 ad and neck cancer \nProf.Dr. J. Kaanders \n\n\n12:00 - 13:00\nLunch break
 \n \n\n\n\n[/toggle][toggle open='false' title='Saturday\, 23 May 2026 - S
 ession 2'] \n\n\n\nFrom - To\nSubject\nSpeaker\n\n\n\n\n12:45 - 13:00\nReg
 istration Session 2\n \n\n\n \nChairman: Ms. Xavirah Sichtman - van Hetten
   (Surinam)\n \n\n\n13:00 - 13:25\n# 5 RT-1/ Monaco transition to Elekta O
 ne from the Physics perspective\nMrs. Whitney Coulor\n\n\n13:25 - 13:50\n#
  6 RD-1/ Mammography &amp\; Breast Stereotactic Biopsy\nMrs. Clarsine Rodr
 iquezMrs. Natasha Ramkisoen             \n\n\n13:50 - 14:15\n# 7 RT-7/Hist
 ological Distribution of Breast cancer and its Association with Ethnicity 
 from 1995 to 2021 in Trinidad &amp\; Tobago\nMrs. Dionne Phillip\n\n\n14:1
 5 - 14:40\n# 8 RD-3/Ergonomics: Occupational health challenges and the imp
 act of MSDs in Medical Imaging in Guyana\nMrs. Jade TuckerMrs. Jankie Devi
 \n\n\n14:40 - 15:00\nTea break \n \n\n\n \nChairman: Mr.Timothy Mourillon 
 (Curacao)\n \n\n\n15:00 - 15:25\n# 9 General-2/Retire\,re-tire or re-tyre\
 , The paths of retirees in the medical imaging field\nMrs. Venice Gill\n\n
 \n15:25 - 15:50\n# 10 RT-3/Brachy\, Flexitron HDR Keloid treatment\nMr. Ro
 deric Alberto\n\n\n15:50 - 16:15\n# 11 RD-4/The effectiveness of the Timin
 g Bolus Technique in CTPA\nMr. Jelani Stephenson\n\n\n16:15 - 16:40\n# 12 
 RT-8/Chemo radiation: Combining radiotherapy with systemic treatments.\nDr
 . Michael Samson\n\n\n16:40 - 16:45\nClosure\n \n\n\n\n[/toggle][toggle op
 en='false' title='Sunday\, 24 May 2026 - Session 3'] \n\n\n\nFrom - To\nSu
 bject\nSpeaker\n\n\n\n\n08:30 - 08:45\nRegistration session 3\n \n\n\n \nC
 hairman: Mrs. Jade Tucker (Guyana)\n \n\n\n08:45 - 09:10\n# 13 RT-9/Volume
  de-escalation in radiotherapy for head and neck cancer\nProf.Dr. J. Kaand
 ers \n\n\n09:10 - 09:35\n\n# 14 RD-6/Radiation Protection\n\nMrs. Xavirah 
 Sichtman-van Hetten\n\n\n09:35 - 10:00\n# 15 RD-9/Further and further from
  the finger. Use of multiparametric prostate MRI\nMr. Anthony AlleeDr. Man
 uel Fernandes de Freitas\n\n\n10:00 - 10:20\nCoffee break\n \n\n\n \nChair
 man:  Mr. Jelanie Stephenson (Jamaica)\n \n\n\n10:20 - 10:45\n# 16 RD-5/Wh
 y Every Modern Hospital Needs an Interventional Radiology Division\nDr. Jo
 se Garbiel Caviedes Gonzalez\n\n\n10:45 - 11:10\n# 17 RT-5/Smarter Treatme
 nt\, Better outcomes: Integrating Augmented and Artificial Intelligence in
  Radiation Oncology\nMr. Ian Weithers\n\n\n11:10 - 11:35\n# 18 RT-2/AI in 
 Dosimetry : Why Human Expertise Still Matters\nMr. Jonathan Leocadia\n\n\n
 11:35 - 12:00\n# 19 RD-2/ The Role of MRI Cardiac\nMrs. Ruqaiyah Moentari
 \n\n\n12:00 - 13:15\nLunch break\n \n\n\n\n[/toggle] [toggle open='false' 
 title='Sunday\, 24 May 2026 - Session 4'] \n\n\n\nFrom - To\nSubject\nSpea
 ker\n\n\n\n\n13:00 - 13:15\nRegistration session 4\n \n\n\n \nChairman: Mr
 s. Dionne Phillip (Trinidad &amp\; Tobago)\n \n\n\n13:15 - 13:40\n# 20 RD-
 8 Lessons from the Roentgen Museum\nMr. David Richards\n\n\n13:40 - 14:05
 \n# 21 RT-4/Stereotactic radiation \nDr.Osmar Silva Barbosa Neto \n\n\n14:
 05 - 14:30\n# 22 General-3/The Time-Out protocol\nMr. Aleth Bruce\n\n\n14:
 30 - 14:50\nTea break\n \n\n\n14:50 - 16:00\nCARRT.MIP New Board members p
 resentation 2026-2028\nMr. Aleth BruceMr. Vincent Finisie\n\n\n16:00 - 16:
 15\nCountry Flag Presentation next Caribbean Conference 2028\nMr. Lucien Z
 uiverloonMr. Aleth Bruce\n\n\n16:15 - 16:30\nClosing remarks CCC2026\nMr. 
 Lucien ZuiverloonCommittee\n\n\n\n[/toggle] \n \nEarly discount up to Apri
 l 19th\, 2026$ 200 GP\, MD &amp\; Other$ 125 Nurses\, Paramedics\, Radiolo
 gy and Radiotherapy\nLate Fee as of April 20th\, 2026$ 250 GP\, MD &amp\; 
 Other$ 150 Nurses\, Paramedics\, Radiology and Radiotherapy\n\nAccreditati
 on pending.\nHaving issues registering? Please click here for assistance.
 \nAccommodation within walking distance of the Venue:\nVenue conference \n
   Approx. 10-minute walk. Click here to make a reservation\, please use Di
 scount Code: NASKHO#537      \nApprox. 10-minute walk  \n \n  Approx. 12-m
 inute walk         \n Other accommodation (by Car):\nApprox. 7-minute driv
 e\n \n  https://naskho.org/index.php/en/conferences/overview-of-conference
 s/event/518-the-next-caribbean-wave-in-radiology-radiotherapy
DTSTART:20260522T080000Z
DTEND:20260524T180000Z
LOCATION:Renaissance Wind Creek Curacao Resort (1 Baden Powellweg\, Curacao
 )
SUMMARY:The Next Caribbean Wave in Radiology & Radiotherapy
URL:https://naskho.org/index.php/en/conferences/overview-of-conferences/eve
 nt/518-the-next-caribbean-wave-in-radiology-radiotherapy
END:VEVENT
END:VCALENDAR
