BEGIN:VCALENDAR
VERSION:2.0
PRODID:-//https://naskho.org///NONSGML kigkonsult.se iCalcreator 2.10.15//
METHOD:PUBLISH
BEGIN:VEVENT
UID:20260425T141631EDT-8395xsrV5C@https://naskho.org/
DTSTAMP:20260425T181631Z
DESCRIPTION:Dear Suscriber\,\nWe are very pleased to present the program fo
 r the 14th Netherlands Heart Days (NHD) January 16 – 18\, 2020 in Curaçao.
  The NHD is a high-level multidisciplinary annual meeting in cardiovascula
 r radiology with participants from Europe\, the entire Caribbean area\, as
  well as North and South America. The meeting is organized by the NHD toge
 ther with the NASKHO (Netherlands–Caribbean Foundation for Clinical Higher
  Education) and Subspecialty Section on Cardiovascular Radiology of the Ra
 diological Society of The Netherlands.\nThis years' program has a special 
 Thursday program focusing on imaging lung cancer\, screening for lung canc
 er and emphysema. Furthermore\, on Thursday and Saturday hands-on case rea
 ding sessions on cardiac CT and lung cancer screenings are offered paralle
 l to the main program. The Friday and Saturday sessions will cover topics 
 such as machine learning\, new imaging techniques\, cardiac amyloidosis\, 
 CT-FFR\, new developments in imaging and treatment of valvular disease and
  cardio-oncology. Lectures will be given by a mix of European and local Ca
 ribbean experts and speakers from North- and South America.\nYoung researc
 hers will have the opportunity to submit abstracts for the Poster Award Se
 ssion. The abstracts\, with only cardiovascular topics\, will be rated by 
 a jury and the 5 highest rated abstracts will be presented in a plenary or
 al session. The best presentation will be awarded with a Poster Award.\nEa
 rly fee registration is open until December 1\, 2019.\nWe hope to welcome 
 you in beautiful Curaçao in January!J.W.C. GratamaProf. T. Leiner\,Prof. H
 .J. LambProf. M. Oudkerk\nExecutive Board St. Nederlandse Hart DagenJ.W.C.
  Gratama\, MD\, PhDProf. H.J. Lamb\, MD\, PhDProf. T. Leiner\, MD\, PhD\nE
 xecutive Program CommitteeJ.W.C. Gratama\, MD PhDJ.P.M. van Heesewijk\, MD
 \, PhDProf. H.J. Lamb\, MD\, PhDProf. T. Leiner\, MD\, PhDE.J.K. Noach\, P
 hDProf. M. Oudkerk\, MD\, PhD\nLocal Organizing Committee NASKHONetherland
 s Caribbean Foundation of Clinical Higher Education R.C.M. Antonius\, PhDL
 . BaereckeProf. A.J. Duits\, MD\, PhDI. EngelhardtF.J. Faulborn\, MScE.D.T
 h. van der HoevenF.M.C. Simon\, MSc\n[toggle open='true' title='Thursday\,
  January 16th 2020']\n\n\n\nFrom - To\nSubject\nSpeakers\n\n\n\n\n07.45 - 
 08.00\nOpening\n \n\n\nSession 1: \n \n \n\n\n08.00 - 09.30 \nImaging Biom
 arkers for Early Detection of B3 Disease\nChair: Oudkerk/Leiner\n\n\n08.30
  - 08.30\nLungcancer Imaging Biomarkers\nMarjoleinHeuvelmans (MST/UMCG\, E
 nschede/Groningen\, NL)\n\n\n08.30 - 09.00\nEmphysema in Lung Cancer Scree
 ning\nKatarzyna Dziadziuszko (Medical University of Gdansk\, Gdansk\, PL)
 \n\n\n09.00 - 09.30\nCVD Imaging Biomarkers\nMarleen Vonder (UMCG\, Gronin
 gen\, NL)\n\n\n09.30 - 10.00\nCOFFEE BREAK\n \n\n\nSession 2:\n \n \n\n\n1
 0.00 - 11.00 \n Screening of Lung Cancer\nChair: Field\n\n\n10.00 - 10.20
 \nFinal Results of NELSON\nHarry de Koning (ErasmusMC\, Rotterdam\, NL)\n
 \n\n10.20 - 10.40\nLung Canver Biomarkers : MILD Study\nUgo Pastorino (IRC
 CS\, Ist. Nazioanle dei tumori\, Milan\, IT\n\n\n10.40 - 11.00\nLung Cance
 r Screening in Poland: Comorbidities\nWitold Rzyman (Medical University Gd
 ansk\, Gdansk\, PL)\n\n\nSession 3: \n \n \n\n\n11.00 - 12.00\nLung Nodule
  Detection and Characterization\n \n\n\n11.00 - 11.20\nNodule Management G
 uidelines\nMarjoleinHeuvelmans (MST/UMCG\, Enschede/Groningen\, NL)\n\n\n1
 1.20 - 11.40\nBaseline Nodules in Lung Cancer Screening\nMario Silva (Univ
 ersity of Parma\, IT)\n\n\n11.40 - 12.00\nIncidental Nodules in Lung Cance
 r Screening\nJoan Walter (University Hospital Basel\, Basel\, CH)\n\n\n12.
 00 - 13.00\nLUNCH BREAK\n \n\n\nSession 4: \n \n \n\n\n13.00 - 14.00 \nPar
 ticipant Recruitment &amp\; Risk Profiling\nChair: TBD\n\n\n13.00 - 13.20
 \nUK Recruitment Strategies\nDavid Baldwin (Nottingham University Hospital
 \, Nottingham\, UK)\n\n\n13.20 - 13.40\nLung Cancer Screening Risk Modelli
 ng\nJohn Field (University of Liverpool\, Liverpool\, UK)\n\n\n13.40 - 14.
 00\nOverdiagnosis: A Malformed Concept\nDavid Yankelevitz (Mount Sinai\, N
 ew York\, US)\n\n\nSession 5:\n \n \n\n\n14.00 - 15.00\nB3 Hot Topics\nCha
 ir: TBD\n\n\n14.00 - 14.20\nB3 Early Detection in EU Lungrun Study\nMatthi
 js Oudkerk (RUG and i-DNA/Groningen\, NL)\n\n\n14.20 - 14.40\nImpact of St
 age Shift on Lung Cancer Treatment\nDavid Baldwin (Nottingham University H
 ospital\, Nottingham\, UK)\n\n\n14.40 - 15.00\nB3 Findings in the General 
 Population\nRozemarijn Vliegenthart (UMCG\, Groningen\, NL)\n\n\n17h - 19h
 \nWelcome Drinks\n \n\n\n08.00 - 15.00\nHands-on Case Reading Workshop Car
 diac CT\n \n\n\n\n[/toggle]\n[toggle open='false' title='Friday\, January 
 17th 2020']\n\n\n\n\nFrom - To\nSubject\nSpeakers\n\n\n\n\n Session 6:\n 
 \n \n\n\n08.00 - 09.30\nMachine Learning in Cardiothoracic Imaging - a Pri
 mer\nChair: Leiner / van Assen\n\n\n08.00 - 08.30\nBasics of Machine Learn
 ing for Cardiothoracic Imagers\nQian Tao (LUMC\, Leiden\, NL)\n\n\n08.30 -
  09.00\nImpact of Machine Learning on Cardiothoracic Imaging\nMarly van As
 sen (UMCG/Emory University\, Groningen/Atlanta\, NL/US)\n\n\n09.00 - 09.30
 \nWhere does Machine Learning add Value Today?\nCarlo De Cecco (Emory Univ
 ersity\, Atlanta\, US)\n\n\n09.30 - 10.00\nCOFFEE BREAK\n \n\n\nSession 7:
 \n \n \n\n\n10.00 - 11.00 \nThe Obesity Epidemic from an Imaging Perspecti
 ve\nChair: Lamb/TBD\n\n\n10.00 - 10.20\nObesity and Type 2 Diabetes - the 
 Perfect Cardiovascula Storm?\nArthur Liqui Lung (Willemstad\, Curaçao)\n\n
 \n10.20 - 10.40\nManaging high risk Patients - a Caribbean Perspective\nIz
 zy Gerstenbluth (CBHRI\, Willemstad\, Curaçao)\n\n\n10.40 - 11.00\nThe Rol
 e of Cardiovascular Imaging in Obesity and DM2\nHildo Lamb (LUMC\, Leiden\
 , NL)\n\n\nSession 8:\n \n \n\n\n11.00 - 12.00\nNew Cardiovascular Imaging
  Techniques\n \n\n\n11.00 - 11.20\n4d Flow Imaging\nJos Westernberg (LUMC\
 , Leiden\, NL)\n\n\n11.20 - 11.40\nAdvanced Cardiac Motion Analysis\nTim L
 einer (UMCU\, Utrecht\, NL)\n\n\n11.40 - 12.00\nMulti-Energy CT\nMarly van
  Assen (UMCG/Emory University\, Groningen/Atlanta\, NL/US)\n\n\n12.00 - 13
 .00\nLUNCH BREAK\n \n\n\nSession 9:\n \n \n\n\n13.00 - 13.40\nPoster Sessi
 on\nChair: Lamb/Vliegenthart\n\n\n13.00 - 13.40\nScientific Abstract Prese
 ntations / Posters Pitches 5 or 6x 5 min.\nPhD Students\n\n\nSession 10:\n
  \n \n\n\n13.40 - 15.00\nB3 Opportunities for Early Disease Detection\nCha
 ir: Oudkerk / TBD\n\n\n13.40 - 14.00\nCurrent Status of Coronary Calcium S
 coring\nMarleen Vonder (UMCG\, Groningen\, NL)\n\n\n14.00 - 14.20\nAortic 
 Aneurysm\n\nJos Westerberg (LUMC\, Leiden\, NL)\n\n\n\n14.20 - 14.40\nInte
 rstitial Lung Disease Assessment in a Screening Setting\nDavid Yankelevitz
  (Mount Sinai\, New York\, US)\n\n\n14.40 - 15.00\nCOPD/Emphysema Assessme
 nt in a Screening Setting\nRik Wisselink (UMCG\, Groningen\, NL)\n\n\nPara
 llel Session:\n \n \n\n\n20.00 - 22.30\nConference Dinner\n \n\n\n\n\n[/to
 ggle]\n[toggle open='false' title='Saturday\, January 18th 2020']\n\n\n\n
 \nFrom - To\nSubject\nSpeakers\n\n\n\n\nSession 11:\n \n \n\n\n08.00 - 09.
 30\nComprehensive Assessment of CAD with CT - Current Status\nChair: Vlieg
 enthart / Budde\n\n\n08.00 - 08.30\nCT Perfusion\nRozemarijn Vliegenthart 
 (UMCG\, Groningen\, NL)\n\n\n08.30 - 09.00\nCT-FFR-Basic Principles\nRicar
 do Budde (Erasmus MC\, Rotterdam\, NL)\n\n\n09.00 - 09.30\nIs CTA really t
 he One-Stop Shop?\nMarcio Bittencourt (University of Sao Paulo\, Sao Paulo
 \, BR)\n\n\n09.30 - 10.00\nCOFFEE BREAK\n \n\n\nSession 12:\n \n \n\n\n10.
 00 - 11.00\nSpecial Focus Session: Imaging of Cardiac Amyloidosis\nChair:?
 \n\n\n10.00 - 10.20\nPathophysiology of Amyloidosis\nHildo Lamb (LUMC\, Le
 iden\, NL\n\n\n10.20 - 10.40\nMR Imaging of Amylodosis\nTim Leiner (UMCU\,
  Utrecht\, NL)\n\n\n10.40 - 11.00\nT.b.a.\nMarish Oerlemans (UMCU\, Utrech
 t\, NL)\n\n\n\nSession 13:\n\n \n \n\n\n11:00 - 11.12\nGUCH - Tips &amp\; 
 Tricks for the General Cardiac Imager \nChair: Planken / Lamb\n\n\n11.00 -
  11.30\nThe Most Common Diagnosis including their CT and MR Findings\nNisl
  Planken (Amsterdam UMC\, Amsterdam\, NL)\n\n\n11.30 - 12.00\nCaribbean Pe
 rspective\nShirley Lo-a-Njoe (CMC\, Willemstad\, Curacao)\n\n\n12.00 - 13.
 00\nLUNCH BREAK\n \n\n\nSession 14:\n \n \n\n\n13.00 - 14.00\nState of the
  Art Imaging and Treatment of Valvular Heart Disease\nChair: van Heesewijk
  / Budde\n\n\n13.00 - 13.20\nModern Interventional Techniques\nMartin Swaa
 ns (Antonius Hospital Nieuwegein\, Nieuwegain\, NL)\n\n\n13.20 - 13.40\nTh
 e Optimization of Radiation and Contrast Doses in Chest and Cardia CT\nJua
 n Carlos Aldana (Fundacion Shiao\, Bogota\, CO)\n\n\n13.40 - 14.00\nNon-In
 vasive Imaging - CT and MRI\nRicardo Budde (Erasmus MC\, Rotterdam\, NL)\n
 \n\nSession 5:\n \n \n\n\n14.00 - 15.00\nHot Topics in Cardiac Imaging: Ca
 rdio-Oncology\nChair: Velthuis / TBD\n\n\n14.00 - 14.30\nThe Effects of Ch
 emotherapy on the Heart and Early Detection with Echocardiography\nMaarten
 -Jan Cramer (UMCU\, Utrecht\, NL)\n\n\n14.30 - 15.00\nThe Role of CT and M
 R in Cardiotoxicity\nBirgitta Velthuis (UMCU\, Utrecht\, NL)\n\n\nSession 
 16:\n \n \n\n\n15.00 - 15.15\nClosure\n \n\n\n\n\n[/toggle]\nThe NHD2020 i
 s organized in cooperation with NASKHO\, therefore\, also for CMC nurses a
 nd technicians a registration fee per day is obliged.Participants from the
  Caribbean and from South America: please register via the NASKHO.Registra
 tion takes place on a first-come\, first-serve basis.Please check here for
  attending the Hands-on Case reading Workshops. Registering for the Worksh
 ops is only possible when also registred for the main program!On both Thur
 sday and Saturday\, a maximum of 25 places is available. First come - Firs
 t Serve\nWorkshop 1\, Thursday January 16\, Cardiac-CT.Costs: € 50 / $60 t
 o be paid to the bankaccount below. Please mention 'Workshop 1'\nWorkshop 
 2\, Saturday January 18\, Lung Cancer screening.\nSponsors:\n  \nAccredita
 tion is requested from the societies below.Accreditation points 2019Radiol
 ogical Society of the Netherlands (NVvR): 17Cardiological Society of the N
 etherlands (NVvC): 17Society of Nuclear Medicine (NVNG): 17 https://naskho
 .org/index.php/en/conferences/overview-of-conferences/event/176-netherland
 s-heart-days-2020
DTSTART:20200116T074500Z
DTEND:20200118T150000Z
LOCATION:Santa Barbara Beach and Golf Resort - Arawak  Ballroom  (Santa Bar
 bara Plantation\, Porta Blancu\, Nieuwpoort\, Curaçao)
SUMMARY:Netherlands Heart Days 2020
URL:https://naskho.org/index.php/en/conferences/overview-of-conferences/eve
 nt/176-netherlands-heart-days-2020
END:VEVENT
END:VCALENDAR
