BEGIN:VCALENDAR
VERSION:2.0
PRODID:-//https://naskho.org///NONSGML kigkonsult.se iCalcreator 2.10.15//
METHOD:PUBLISH
BEGIN:VEVENT
UID:20260421T050823EDT-7821HeBN5r@https://naskho.org/
DTSTAMP:20260421T090823Z
DESCRIPTION: https://naskho.org/index.php/en/conferences/my-conferences/eve
 nt/532-zorg-en-begeleiding-van-mensen-met-long-en-ademhalingsproblematiek-
 een-greep-uit-de-praktijk
DTSTART:20250827T120000Z
DTEND:20250827T130000Z
LOCATION:Auditorium\, Curacao Medical Center ()
SUMMARY:Zorg en begeleiding van mensen met long-en ademhalingsproblematiek\
 , een greep uit de praktijk.
URL:https://naskho.org/index.php/en/conferences/my-conferences/event/532-zo
 rg-en-begeleiding-van-mensen-met-long-en-ademhalingsproblematiek-een-greep
 -uit-de-praktijk
END:VEVENT
END:VCALENDAR
