BEGIN:VCALENDAR
VERSION:2.0
PRODID:-//https://naskho.org///NONSGML kigkonsult.se iCalcreator 2.10.15//
METHOD:PUBLISH
BEGIN:VEVENT
UID:20260421T145222EDT-5976jpnh2x@https://naskho.org/
DTSTAMP:20260421T185222Z
DESCRIPTION:Herkennen en behandeln van de patient in shock dmv achtergrond 
 informatie en casuistiek https://naskho.org/index.php/en/conferences/my-co
 nferences/event/438-shock-eefje-verschuuren-s-e-h-arts
DTSTART:20240320T120000Z
DTEND:20240320T130000Z
LOCATION:Auditorium\, Curacao Medical Center ()
SUMMARY:Shock - Eefje Verschuuren ( S.E.H. Arts)
URL:https://naskho.org/index.php/en/conferences/my-conferences/event/438-sh
 ock-eefje-verschuuren-s-e-h-arts
END:VEVENT
END:VCALENDAR
