BEGIN:VCALENDAR
VERSION:2.0
PRODID:-//https://naskho.org///NONSGML kigkonsult.se iCalcreator 2.10.15//
METHOD:PUBLISH
BEGIN:VEVENT
UID:20260420T112133EDT-8789aDJbF5@https://naskho.org/
DTSTAMP:20260420T152133Z
DESCRIPTION: \nThis event is exclusively for Curacao Medical Center Nurses\
 , Interns\, Residents &amp\; Specialists.\n\n \n \n \n \n \n \n \n \n \n 
 \n \n  https://naskho.org/index.php/en/conferences/event/546-diversity-equ
 ity-inclusivity-dei-in-de-gezondheid
DTSTART:20251022T120000Z
DTEND:20251022T140000Z
LOCATION:Auditorium\, Curacao Medical Center ()
SUMMARY:'Diversity\, Equity & Inclusivity' (DEI) in de gezondheid
URL:https://naskho.org/index.php/en/conferences/event/546-diversity-equity-
 inclusivity-dei-in-de-gezondheid
END:VEVENT
END:VCALENDAR
