BEGIN:VCALENDAR
VERSION:2.0
PRODID:-//https://naskho.org///NONSGML kigkonsult.se iCalcreator 2.10.15//
METHOD:PUBLISH
BEGIN:VEVENT
UID:20260421T171259EDT-1639cMARXG@https://naskho.org/
DTSTAMP:20260421T211259Z
DESCRIPTION: https://naskho.org/index.php/en/conferences/calendar/event/573
 -verpleegkundig-congres-save-the-date
DTSTART:20261030T170000Z
DTEND:20261031T170000Z
LOCATION:To be advised ()
SUMMARY:Verpleegkundig Congres - SAVE THE DATE
URL:https://naskho.org/index.php/en/conferences/calendar/event/573-verpleeg
 kundig-congres-save-the-date
END:VEVENT
END:VCALENDAR
