BEGIN:VCALENDAR
VERSION:2.0
PRODID:-//https://naskho.org///NONSGML kigkonsult.se iCalcreator 2.10.15//
METHOD:PUBLISH
BEGIN:VEVENT
UID:20260425T065226EDT-4618cApIjp@https://naskho.org/
DTSTAMP:20260425T105226Z
DESCRIPTION:Trombose en longembolie komen veel voor in de bevolking. Antist
 ollingsbehandeling hiervoor is zeer effectief\, maar gaat gepaard met een 
 verhoogde kans op bloedingen. Inmiddels is er keus uit drie grote groepen 
 antistollingsmiddelen: DOAC\, vitamine K antagonisten en LMWH\, waarbij in
  de richtlijnen een sterke voorkeur voor de eerste groep bestaat. Dit geld
 t ook voor patiënten met kanker en trombose. In mijn presentatie ga ik in 
 op de farmacokinetiek van deze middelen\, en de voor- en nadelen in de dag
 elijkse praktijk. Ook bespreek ik het dilemma hoelang patiënten moeten wor
 den behandeld na een trombose of longembolie en hoe hiermee om te gaan in 
 de praktijk. https://naskho.org/index.php/en/conferences/calendar/event/48
 1-antistollingsbehandeling-van-trombose-en-longembolie
DTSTART:20240717T120000Z
DTEND:20240717T130000Z
LOCATION:Auditorium\, Curacao Medical Center ()
SUMMARY:Antistollingsbehandeling van trombose en longembolie: 
URL:https://naskho.org/index.php/en/conferences/calendar/event/481-antistol
 lingsbehandeling-van-trombose-en-longembolie
END:VEVENT
END:VCALENDAR
