BEGIN:VCALENDAR
VERSION:2.0
PRODID:-//https://naskho.org///NONSGML kigkonsult.se iCalcreator 2.10.15//
METHOD:PUBLISH
BEGIN:VEVENT
UID:20260421T230746EDT-3254M9aM8v@https://naskho.org/
DTSTAMP:20260422T030746Z
DESCRIPTION: https://naskho.org/index.php/en/conferences/calendar/event/463
 -risico-s-van-vapen-bij-jongeren
DTSTART:20240605T120000Z
DTEND:20240605T130000Z
LOCATION:Auditorium\, Curacao Medical Center ()
SUMMARY:Risico's van vapen bij jongeren
URL:https://naskho.org/index.php/en/conferences/calendar/event/463-risico-s
 -van-vapen-bij-jongeren
END:VEVENT
END:VCALENDAR
