BEGIN:VCALENDAR
VERSION:2.0
PRODID:-//https://naskho.org///NONSGML kigkonsult.se iCalcreator 2.10.15//
METHOD:PUBLISH
BEGIN:VEVENT
UID:20260424T040628EDT-9477xSVZ0m@https://naskho.org/
DTSTAMP:20260424T080628Z
DESCRIPTION: https://naskho.org/index.php/en/conferences/calendar/event/350
 -over-tijd-kantelpunten-in-de-naoorlogse-geboortezorg-dr-h-wildschut-gynae
 coloog
DTSTART:20221005T120000Z
DTEND:20221005T130000Z
LOCATION:Auditorium\, Curacao Medical Center ()
SUMMARY:Over tijd. Kantelpunten in de naoorlogse geboortezorg - dr. H.  Wil
 dschut (Gynaecoloog)
URL:https://naskho.org/index.php/en/conferences/calendar/event/350-over-tij
 d-kantelpunten-in-de-naoorlogse-geboortezorg-dr-h-wildschut-gynaecoloog
END:VEVENT
END:VCALENDAR
