BEGIN:VCALENDAR
VERSION:2.0
PRODID:-//https://naskho.org///NONSGML kigkonsult.se iCalcreator 2.10.15//
METHOD:PUBLISH
BEGIN:VEVENT
UID:20260421T171846EDT-5409kEEhKe@https://naskho.org/
DTSTAMP:20260421T211846Z
DESCRIPTION: https://naskho.org/index.php/en/conferences/calendar/event/147
 -postpartum-pathologie-dr-holtsema-gynaecoloog
DTSTART:20190417T120000Z
DTEND:20190417T130000Z
LOCATION: ()
SUMMARY:Postpartum pathologie - Dr. Holtsema - Gynaecoloog
URL:https://naskho.org/index.php/en/conferences/calendar/event/147-postpart
 um-pathologie-dr-holtsema-gynaecoloog
END:VEVENT
END:VCALENDAR
