BEGIN:VCALENDAR
VERSION:2.0
PRODID:-//https://naskho.org///NONSGML kigkonsult.se iCalcreator 2.10.15//
METHOD:PUBLISH
BEGIN:VEVENT
UID:20260423T064208EDT-7765C4VBl6@https://naskho.org/
DTSTAMP:20260423T104208Z
DESCRIPTION: \n            \nRegistration is no longer required for the Cli
 nical Conferences!Registratie is niet langer vereist voor de Klinische Con
 ferenties!¡Ya no se requiere inscripción para las Conferencias Clínicas!\n
   https://naskho.org/index.php/en/clinical-conferences/program/event/564-s
 toomcursus-buikechografie
DTSTART:20260121T120000Z
DTEND:20260121T130000Z
LOCATION:Auditorium\, Curacao Medical Center ()
SUMMARY:Stoomcursus Buikechografie 
URL:https://naskho.org/index.php/en/clinical-conferences/program/event/564-
 stoomcursus-buikechografie
END:VEVENT
END:VCALENDAR
