BEGIN:VCALENDAR
VERSION:2.0
PRODID:-//https://naskho.org///NONSGML kigkonsult.se iCalcreator 2.10.15//
METHOD:PUBLISH
BEGIN:VEVENT
UID:20260425T185606EDT-9320Xkw8gu@https://naskho.org/
DTSTAMP:20260425T225606Z
DESCRIPTION:Dermatologie is een breed vak. Tijdens deze presentatie zullen 
 we de verschillende facetten van de dermatologie belichting. Of te wel: de
 rmatologie in de volle breedte. https://naskho.org/index.php/en/clinical-c
 onferences/program/event/380-dermatologie-in-de-volle-breedte
DTSTART:20230405T120000Z
DTEND:20230405T130000Z
LOCATION:Auditorium\, Curacao Medical Center ()
SUMMARY:Dermatologie in de volle breedte
URL:https://naskho.org/index.php/en/clinical-conferences/program/event/380-
 dermatologie-in-de-volle-breedte
END:VEVENT
END:VCALENDAR
